BEGIN:VCALENDAR
VERSION:2.0
PRODID:Events Booking
BEGIN:VEVENT
UID:69e8fde2ecabd
SUMMARY:Banner - NS
DESCRIPTION:
DTSTART:20251030T000000Z
DTEND:20261231T080000Z
DTSTAMP:20240910T055622Z
ORGANIZER;CN=MyDailyLifestyle:MAILTO:admin@mydailylifestyle.com
END:VEVENT
END:VCALENDAR